BEGIN:VCALENDAR
VERSION:2.0
PRODID:-//Schwimmverein Olympia Borghorst - ECPv6.15.20//NONSGML v1.0//EN
CALSCALE:GREGORIAN
METHOD:PUBLISH
X-WR-CALNAME:Schwimmverein Olympia Borghorst
X-ORIGINAL-URL:https://svo-borghorst.de
X-WR-CALDESC:Veranstaltungen für Schwimmverein Olympia Borghorst
REFRESH-INTERVAL;VALUE=DURATION:PT1H
X-Robots-Tag:noindex
X-PUBLISHED-TTL:PT1H
BEGIN:VTIMEZONE
TZID:Europe/Paris
BEGIN:DAYLIGHT
TZOFFSETFROM:+0100
TZOFFSETTO:+0200
TZNAME:CEST
DTSTART:20210328T010000
END:DAYLIGHT
BEGIN:STANDARD
TZOFFSETFROM:+0200
TZOFFSETTO:+0100
TZNAME:CET
DTSTART:20211031T010000
END:STANDARD
BEGIN:DAYLIGHT
TZOFFSETFROM:+0100
TZOFFSETTO:+0200
TZNAME:CEST
DTSTART:20220327T010000
END:DAYLIGHT
BEGIN:STANDARD
TZOFFSETFROM:+0200
TZOFFSETTO:+0100
TZNAME:CET
DTSTART:20221030T010000
END:STANDARD
BEGIN:DAYLIGHT
TZOFFSETFROM:+0100
TZOFFSETTO:+0200
TZNAME:CEST
DTSTART:20230326T010000
END:DAYLIGHT
BEGIN:STANDARD
TZOFFSETFROM:+0200
TZOFFSETTO:+0100
TZNAME:CET
DTSTART:20231029T010000
END:STANDARD
END:VTIMEZONE
BEGIN:VEVENT
DTSTART;TZID=Europe/Paris:20221118T203000
DTEND;TZID=Europe/Paris:20221118T220000
DTSTAMP:20260425T125440
CREATED:20221115T154354Z
LAST-MODIFIED:20221115T154354Z
UID:1109-1668803400-1668808800@svo-borghorst.de
SUMMARY:Heimspiel SVO-Wasserballer gegen die WSG Vest II
DESCRIPTION:Wir brauchen euren Support im Kombibad ab 20:30 Uhr zum Eröffnungsspiel der Nordwestfalenliga! Nach dem Spiel geht es dann in unser schönes Vereinsheim.
URL:https://svo-borghorst.de/event/heimspiel-svo-wasserballer-gegen-die-wsg-vest-ii/
LOCATION:Kombibad Borghorst
CATEGORIES:Wasserball
END:VEVENT
END:VCALENDAR