BEGIN:VCALENDAR
VERSION:2.0
PRODID:-//Schwimmverein Olympia Borghorst - ECPv6.15.20//NONSGML v1.0//EN
CALSCALE:GREGORIAN
METHOD:PUBLISH
X-ORIGINAL-URL:https://svo-borghorst.de
X-WR-CALDESC:Veranstaltungen für Schwimmverein Olympia Borghorst
REFRESH-INTERVAL;VALUE=DURATION:PT1H
X-Robots-Tag:noindex
X-PUBLISHED-TTL:PT1H
BEGIN:VTIMEZONE
TZID:Europe/Paris
BEGIN:DAYLIGHT
TZOFFSETFROM:+0100
TZOFFSETTO:+0200
TZNAME:CEST
DTSTART:20240331T010000
END:DAYLIGHT
BEGIN:STANDARD
TZOFFSETFROM:+0200
TZOFFSETTO:+0100
TZNAME:CET
DTSTART:20241027T010000
END:STANDARD
BEGIN:DAYLIGHT
TZOFFSETFROM:+0100
TZOFFSETTO:+0200
TZNAME:CEST
DTSTART:20250330T010000
END:DAYLIGHT
BEGIN:STANDARD
TZOFFSETFROM:+0200
TZOFFSETTO:+0100
TZNAME:CET
DTSTART:20251026T010000
END:STANDARD
BEGIN:DAYLIGHT
TZOFFSETFROM:+0100
TZOFFSETTO:+0200
TZNAME:CEST
DTSTART:20260329T010000
END:DAYLIGHT
BEGIN:STANDARD
TZOFFSETFROM:+0200
TZOFFSETTO:+0100
TZNAME:CET
DTSTART:20261025T010000
END:STANDARD
END:VTIMEZONE
BEGIN:VEVENT
DTSTART;TZID=Europe/Paris:20250824T130000
DTEND;TZID=Europe/Paris:20250824T190000
DTSTAMP:20260421T113742
CREATED:20250817T174953Z
LAST-MODIFIED:20250817T175316Z
UID:3040-1756040400-1756062000@svo-borghorst.de
SUMMARY:Familienfest
DESCRIPTION:Feiern und internes Tunier \nMini-Turnier (U12/U14) ab 14:30.
URL:https://svo-borghorst.de/event/familienfest/
LOCATION:BagnoMare
CATEGORIES:Allgemein
END:VEVENT
BEGIN:VEVENT
DTSTART;TZID=Europe/Paris:20250830T180000
DTEND;TZID=Europe/Paris:20250830T220000
DTSTAMP:20260421T113742
CREATED:20250831T114557Z
LAST-MODIFIED:20250831T114557Z
UID:3078-1756576800-1756591200@svo-borghorst.de
SUMMARY:14. Dämmerungssprintschwimmen
DESCRIPTION:
URL:https://svo-borghorst.de/event/14-daemmerungssprintschwimmen/
LOCATION:Parkfreibad Gronau\, Brändströmstraße 25\, Gronau\, 48599\, Germany
END:VEVENT
END:VCALENDAR