BEGIN:VCALENDAR
VERSION:2.0
PRODID:-//Schwimmverein Olympia Borghorst - ECPv6.15.20//NONSGML v1.0//EN
CALSCALE:GREGORIAN
METHOD:PUBLISH
X-ORIGINAL-URL:https://svo-borghorst.de
X-WR-CALDESC:Veranstaltungen für Schwimmverein Olympia Borghorst
REFRESH-INTERVAL;VALUE=DURATION:PT1H
X-Robots-Tag:noindex
X-PUBLISHED-TTL:PT1H
BEGIN:VTIMEZONE
TZID:Europe/Paris
BEGIN:DAYLIGHT
TZOFFSETFROM:+0100
TZOFFSETTO:+0200
TZNAME:CEST
DTSTART:20240331T010000
END:DAYLIGHT
BEGIN:STANDARD
TZOFFSETFROM:+0200
TZOFFSETTO:+0100
TZNAME:CET
DTSTART:20241027T010000
END:STANDARD
BEGIN:DAYLIGHT
TZOFFSETFROM:+0100
TZOFFSETTO:+0200
TZNAME:CEST
DTSTART:20250330T010000
END:DAYLIGHT
BEGIN:STANDARD
TZOFFSETFROM:+0200
TZOFFSETTO:+0100
TZNAME:CET
DTSTART:20251026T010000
END:STANDARD
BEGIN:DAYLIGHT
TZOFFSETFROM:+0100
TZOFFSETTO:+0200
TZNAME:CEST
DTSTART:20260329T010000
END:DAYLIGHT
BEGIN:STANDARD
TZOFFSETFROM:+0200
TZOFFSETTO:+0100
TZNAME:CET
DTSTART:20261025T010000
END:STANDARD
END:VTIMEZONE
BEGIN:VEVENT
DTSTART;TZID=Europe/Paris:20250306T193000
DTEND;TZID=Europe/Paris:20250306T203000
DTSTAMP:20260421T125716
CREATED:20250213T224459Z
LAST-MODIFIED:20250213T224459Z
UID:2628-1741289400-1741293000@svo-borghorst.de
SUMMARY:Vorstandssitzung
DESCRIPTION:
URL:https://svo-borghorst.de/event/vorstandssitzung/
LOCATION:Vereinsheim
CATEGORIES:Vorstand
END:VEVENT
BEGIN:VEVENT
DTSTART;TZID=Europe/Paris:20250328T203000
DTEND;TZID=Europe/Paris:20250328T203000
DTSTAMP:20260421T125716
CREATED:20250314T222008Z
LAST-MODIFIED:20250314T222256Z
UID:2705-1743193800-1743193800@svo-borghorst.de
SUMMARY:SV Gladbeck 1913 - SVO
DESCRIPTION:Bezirksliga Westfalen mixed\, Traglufthalle Gladbeck
URL:https://svo-borghorst.de/event/sv-gladbeck-1913-svo/
CATEGORIES:Wasserball
END:VEVENT
BEGIN:VEVENT
DTSTART;TZID=Europe/Paris:20250330T090000
DTEND;TZID=Europe/Paris:20250330T150000
DTSTAMP:20260421T125716
CREATED:20250213T221745Z
LAST-MODIFIED:20250213T222007Z
UID:2622-1743325200-1743346800@svo-borghorst.de
SUMMARY:Kükenschwimmmen
DESCRIPTION:Ausschreibung \n„Jungküken- und Küken“ –Schwimmfest 2025\nam Sonntag\, den 30. März 2025 im Hallenbad der Stadt Steinfurt\,\nGräfin Bertha Str. 13\, 48565 Steinfurt\n1. Veranstaltungsabschnitt\, kindgerechter Wettkampf: Sonntag\, den 30.03.2025\nEinlass: 09:00 Uhr Einschwimmen: ab 09:00 Uhr\nKampfrichtersitzung: 09:30 Uhr Wettkampfbeginn: 10:00 Uhr\n2. Veranstaltungsabschnitt\, Nachwuchswettkampf: Sonntag\, den 30.03.2025\nKampfrichtersitzung und Wettkampfbeginn: ca. 30 Min. nach Ende des 2. Abschnittes
URL:https://svo-borghorst.de/event/kuekenschwimmmen/
LOCATION:Kombibad Borghorst
CATEGORIES:Schwimmen
END:VEVENT
END:VCALENDAR