BEGIN:VCALENDAR
VERSION:2.0
PRODID:-//Schwimmverein Olympia Borghorst - ECPv6.15.20//NONSGML v1.0//EN
CALSCALE:GREGORIAN
METHOD:PUBLISH
X-WR-CALNAME:Schwimmverein Olympia Borghorst
X-ORIGINAL-URL:https://svo-borghorst.de
X-WR-CALDESC:Veranstaltungen für Schwimmverein Olympia Borghorst
REFRESH-INTERVAL;VALUE=DURATION:PT1H
X-Robots-Tag:noindex
X-PUBLISHED-TTL:PT1H
BEGIN:VTIMEZONE
TZID:Europe/Paris
BEGIN:DAYLIGHT
TZOFFSETFROM:+0100
TZOFFSETTO:+0200
TZNAME:CEST
DTSTART:20240331T010000
END:DAYLIGHT
BEGIN:STANDARD
TZOFFSETFROM:+0200
TZOFFSETTO:+0100
TZNAME:CET
DTSTART:20241027T010000
END:STANDARD
BEGIN:DAYLIGHT
TZOFFSETFROM:+0100
TZOFFSETTO:+0200
TZNAME:CEST
DTSTART:20250330T010000
END:DAYLIGHT
BEGIN:STANDARD
TZOFFSETFROM:+0200
TZOFFSETTO:+0100
TZNAME:CET
DTSTART:20251026T010000
END:STANDARD
BEGIN:DAYLIGHT
TZOFFSETFROM:+0100
TZOFFSETTO:+0200
TZNAME:CEST
DTSTART:20260329T010000
END:DAYLIGHT
BEGIN:STANDARD
TZOFFSETFROM:+0200
TZOFFSETTO:+0100
TZNAME:CET
DTSTART:20261025T010000
END:STANDARD
END:VTIMEZONE
BEGIN:VEVENT
DTSTART;TZID=Europe/Paris:20250328T203000
DTEND;TZID=Europe/Paris:20250328T203000
DTSTAMP:20260421T141645
CREATED:20250314T222008Z
LAST-MODIFIED:20250314T222256Z
UID:2705-1743193800-1743193800@svo-borghorst.de
SUMMARY:SV Gladbeck 1913 - SVO
DESCRIPTION:Bezirksliga Westfalen mixed\, Traglufthalle Gladbeck
URL:https://svo-borghorst.de/event/sv-gladbeck-1913-svo/
CATEGORIES:Wasserball
END:VEVENT
END:VCALENDAR